BEGIN:VCALENDAR
VERSION:2.0
PRODID:-//Sabre//Sabre VObject 4.5.8//EN
CALSCALE:GREGORIAN
BEGIN:VEVENT
UID:sabre-vobject-a0946416-aa01-4101-95d3-28a8856e69d2
DTSTAMP:20260421T123526Z
SUMMARY:Jodelchörli uf Zyt
DESCRIPTION:Beim «Jodelchörli uf Zyt» vermittelt eine qualifizierte Leit
 erin die Grundlagen des Naturjodels sowie das Singen von Jodelliedern. Die
  Teilnahme erfordert keine besondere Voraussetzung.\nInhalt:\\n- Teilnehme
 nde lernen einzelne Naturjodel und somit die ursprünglichste Art des Jode
 lns\, sowie Jodellieder der Alpsteinkultur\\n- Teilnehmende erleben\, wie 
 wohltuend diese Art des gemeinsamen Singens ist\\n- Der Kurs dauert ein Se
 mester und bietet damit Gelegenheit\, in einem begrenzten Zeitraum in eine
 m Jodelchörli zu singen\nVoraussetzung:\\nKeine Voraussetzungen notwendig
 \, wichtig ist die Freude am Singen.\nLeitung:\\nKatja Bürgler leitet 4 J
 odelchöre und hat an der Musikhochschule Luzern den Bachelor und Master m
 it Schwerpunkt Volksmusik absolviert.
LOCATION:Musikzentrum St. Gallen\, Bahnhofplatz 2\, 9000 St. Gallen
DTSTART;TZID=Europe/Zurich:20260520T081500
DTEND;TZID=Europe/Zurich:20260520T101500
ORGANIZER:Musikzentrum St. Gallen
END:VEVENT
END:VCALENDAR
