BEGIN:VCALENDAR
VERSION:2.0
PRODID:-//Sabre//Sabre VObject 4.5.8//EN
CALSCALE:GREGORIAN
BEGIN:VEVENT
UID:sabre-vobject-f4fadfe0-ee42-41f2-8c77-1fd86a7c9eff
DTSTAMP:20260421T091223Z
SUMMARY:Besuch der Sakristei
DESCRIPTION:
LOCATION:Kloster Fischingen\, Kirche\, 8376 Fischingen
DTSTART;TZID=Europe/Zurich:20260816T143000
DTEND;TZID=Europe/Zurich:20260816T153000
ORGANIZER:Kultur Kloster Fischingen
END:VEVENT
END:VCALENDAR
