BEGIN:VCALENDAR
VERSION:2.0
PRODID:-//Sabre//Sabre VObject 4.5.8//EN
CALSCALE:GREGORIAN
BEGIN:VEVENT
UID:sabre-vobject-e087be1b-3a34-4353-9c61-8ef59a0c6393
DTSTAMP:20260421T103954Z
SUMMARY:Christoph Schönfelder\, Orgel
DESCRIPTION:Klassisch - Romantisch\nDie 1716 entstandene Toccata und Fuge i
 n F-Dur von J. S. Bach ist ein anspruchsvolles Werk. Bach entwarf die Fuge
  wahrscheinlich später und passte sie an die vorliegende Komposition an\,
  was die Doppelfuge deutlich macht. Die als «Achtzehn Choräle» bezeichn
 eten grossformatigen Choralbearbeitungen sind ein Spätwerk Bachs.\nBeim S
 tück «Von Gott will ich nicht lassen» liegt die Melodie im Pedal\, komb
 iniert mit einem dreistimmigen\, polyphonen Manualsatz. Mozart hat die Org
 el als Königin der Instrumente gepriesen\, leider hat er selbst nicht vie
 le Orgelwerke komponiert. Einzelne Klavierstücke Mozarts lassen sich auf 
 Orgeln wiedergeben\, ganze Orgelwerke sind dagegen rar.\nMendelssohn über
 nahm den Sonatentyp in op. 65 nicht schlicht auf die Orgel\, sondern kompo
 nierte Einzelsätze zu Zyklen. Schumann meinte ironisch: «Das Lehrbuchkon
 zept scheint hier nicht zu greifen\; stattdessen mischt sich Tradition mit
  Innovation.»\nDie Sonaten eröffnen durch Choralbearbeitungen im symphon
 ischen Stil\, gemischt mit Charakterstücken und brillanter Orgeltechnik\,
  zahlreiche neue Möglichkeiten und wurden dadurch besonders erfolgreich. 
 Der preisgekrönte Musiker ist als Domorganist an der Kathedrale St. Galle
 n sowie als künstlerischer Leiter der internationalen Domorgelkonzerte t
 ätig.\n \nGeführter Besuch durch die Sakristei. Pater Gregor öffnet um
  14.30 Uhr den wertvollen Kirchenschatz. Durch seine Erzählungen werden d
 ie Kostbarkeiten lebendig. Die Führung ist gratis und eine Anmeldung nich
 t erforderlich.
LOCATION:Kloster Fischingen\, Bibliothek\, 8376 Fischingen
DTSTART;TZID=Europe/Zurich:20260816T161500
DTEND;TZID=Europe/Zurich:20260816T171500
ORGANIZER:Kultur Kloster Fischingen
END:VEVENT
END:VCALENDAR
