BEGIN:VCALENDAR
VERSION:2.0
PRODID:-//Sabre//Sabre VObject 4.5.8//EN
CALSCALE:GREGORIAN
BEGIN:VEVENT
UID:sabre-vobject-abb74b33-fb67-4c9b-9fab-54f58aad1af2
DTSTAMP:20260419T145341Z
SUMMARY:Lamineur Quartett
DESCRIPTION:Werke von Edward Grieg\, Guillermo Lago\, Leonard Bernstein\, T
 an Dun.\nSimon Fluri\, Altsaxophon / Christian Sandgaard\, Baritonsaxophon
  / Charles Ng\, Tenorsaxophon / \\nDemian Kammer\, Sopransaxophon\nDas La
 mineur Quartett präsentiert ein einzigartiges Hörerlebnis mit vier versc
 hiedenen Saxophonen und Musik aus drei Epochen. Die musikalische Reise sta
 rtet mit Edvard Griegs „Holberg Suite“\, eine vom Barock inspirierte O
 rchestersuite\, für Saxophon adaptiert. E\ninige Glanzmomente aus dem Ori
 ginalrepertoire des Saxophonquartetts versprechen die „Ciudades“ – d
 eutsch Städte - von Guillermo Lago\, das persönliche Eindrücke verschie
 dener Städte vertont. Die Werke entführen das Publikum in die Rushhour T
 okios\, die Verschlafenheit Kölns\, die Strassenmusik Córdobas\, die Auf
 bruchsstimmung Sarajevos sowie die Umtriebigkeit von Äthiopiens Hauptstad
 t Addis Abeba.\nDas Programm lädt dazu ein\, die unterschiedlichen Welten
  und Geschichten dieser Orte musikalisch zu erkunden und ihre aktuelle Bed
 eutung im globalen Kontext zu erleben. Abgerundet wird die Reise mit einem
  Ausflug zu New Yorks Broadway und Leonard Bernsteins berühmte „West Si
 de Story“. Das Musical besticht durch seinen Charme\, seinen Witz und se
 ine unvergesslichen Melodien.\n\\nKostenloser Orgelspaziergang - Interessi
 erte besuchen alle vier Orgeln in der Klosterkirche und werden mit Klangh
 äppchen verwöhnt. Der Spaziergang beginnt um 14.30 Uhr beim Haupteingang
  der Kirche und dauert rund eine Stunde. Eine Anmeldung ist nicht erforder
 lich.
LOCATION:Kloster Fischingen\, Bibliothek\, 8376 Fischingen
DTSTART;TZID=Europe/Zurich:20260913T161500
DTEND;TZID=Europe/Zurich:20260913T171500
ORGANIZER:Kultur Kloster Fischingen
END:VEVENT
END:VCALENDAR
