BEGIN:VCALENDAR
VERSION:2.0
PRODID:-//Sabre//Sabre VObject 4.5.8//EN
CALSCALE:GREGORIAN
BEGIN:VEVENT
UID:sabre-vobject-288a4a6e-fbce-4cf1-a273-fa3567964f3f
DTSTAMP:20260421T091220Z
SUMMARY:The Original USA Gospel Singers & Band
DESCRIPTION:The Original USA Gospel Singers &amp\; Band reißen das Publiku
 m mit! Über 25 Jahre Tourneeerfahrung und mehr als eine Million Besucher 
 kann die Gospel-Gruppe bereits vorweisen! Und die Erfolgs-Story geht weite
 r. Nicht nur in der ehrwürdigen Scala in Mailand erfreuten sie das Publik
 um\, sondern auch den Papst beim Weihnachtskonzert im Vatikan. Die afroame
 rikanische Gospel-Gruppe mit Live-Band bringt das ursprüngliche Gefühl d
 er schwarzen Gospel-Kultur authentisch nahe und erzählt deren Geschichte.
  Von der Entstehung bis zur heutigen Zeit\, von Mahalia Jackson bis James 
 Cleveland.\nDas Ensemble umfasst ausgewählte Spitzensänger\, hervorragen
 de Solisten und Musiker\, die in einem zweistündigen Programm all das bie
 ten\, was Gospel so schön macht: Emotionalität\, Religiosität und pure 
 Lebensfreude. Das Ziel jeder Vorstellung der Original USA Gospel Singers i
 st es\, Menschen durch die immense\, spirituelle Kraft der einzelnen Songs
  einander näher zu bringen. Wichtiger Bestandteil jeder Show ist die akti
 ve Teilnahme des Publikums. Hand in Hand erleben die Zuschauer die Kraft d
 er echten Gospel-Musik. Die Emotionen\, die dabei geweckt werden\, machen 
 den Abend zu einem unvergesslichen Erlebnis.\\n\\nWas zeichnet Gospel aus?
 \\nEin typisches Merkmal des Gospel-Gesangs ist die Antiphonie\, der Wechs
 elgesang zwischen Vorsänger und Chor\, auch "Call and Response" (Ruf und 
 Antwort) genannt. Ein weiteres afrikanisch geprägtes Element der Gospel M
 usik ist die Besonderheit der afrikanischen Tonalität. In ihr herrscht di
 e Pentatonik\, also die Verwendung einer Tonleiter vor\, die im Gegensatz 
 zum Siebentonsystem der europäischen Musik lediglich fünf Töne verwende
 t. Erst später entstand dann auch in der afroamerikanischen Musik die Hep
 tatonik\, in dem die Terz und die Septime\, die sogenannten " Blue Notes" 
 ergänzt wurden.\nDiese Intervalle sind es auch die die afrikanische und a
 froamerikanische Musik nach wie vor von der europäischen Dur Moll Modalit
 ät unterscheidet. Ein letztes besonderes Merkmal\, das auf die afrikanisc
 hen Wurzeln des Nigro Spirital zurückgeführt werden kann\, ist das "Timb
 re"\, die besondere Klangfarbe der Stimme im afrikanischen Gesang. Die Sä
 nger entwickeln bei Ihrem Gesang eine Fülle an Differenzierungsmöglichke
 iten einzelner Töne. Hierbei geht es vor allem darum\, der jeweils persö
 nlichen Stimmung Ausdruck zu verleihen. So entstehen Töne\, die einerseit
 s bis hin zu einem unreinen Schreien rau und heißer klingen\, andererseit
 s aber auch durchaus angenehm weich und zart auf die Ohren wirken.\nHausö
 ffnung: 19.00 Uhr\n 
LOCATION:Stadtsaal Wil\, Bahnhofplatz 6\, 9500 Wil SG
DTSTART;TZID=Europe/Zurich:20261126T200000
DTEND;TZID=Europe/Zurich:20261126T222000
ORGANIZER:Nice Time Productions
END:VEVENT
END:VCALENDAR
