BEGIN:VCALENDAR
VERSION:2.0
PRODID:-//Sabre//Sabre VObject 4.5.8//EN
CALSCALE:GREGORIAN
BEGIN:VEVENT
UID:sabre-vobject-1af87387-d379-4171-9adb-961f096684cf
DTSTAMP:20260421T102427Z
SUMMARY:Seniorenchor singt im Thurgauerhof (Senior mach mit)
DESCRIPTION:
LOCATION:Kongresszentrum Thurgauerhof\, Felsenstrasse 6\, 8570 Weinfelden
DTSTART;TZID=Europe/Zurich:20261210T140000
DTEND;TZID=Europe/Zurich:20261210T140000
ORGANIZER:Rita Höpli
END:VEVENT
END:VCALENDAR
