BEGIN:VCALENDAR
VERSION:2.0
PRODID:-//Sabre//Sabre VObject 4.5.8//EN
CALSCALE:GREGORIAN
BEGIN:VEVENT
UID:sabre-vobject-1eb8ba24-8ab0-417e-92bd-34b6bb3f07a2
DTSTAMP:20260421T091228Z
SUMMARY:Seniorenchor singt im Alterszetrum (Senior mach mit)
DESCRIPTION:
LOCATION:Alterszentrum Weinfelden\, Alpsteinstrasse 14\, 8570 Weinfelden
DTSTART;TZID=Europe/Zurich:20260519T150000
DTEND;TZID=Europe/Zurich:20260519T150000
ORGANIZER:Rita Höpli
END:VEVENT
END:VCALENDAR
