BEGIN:VCALENDAR
VERSION:2.0
PRODID:-//Sabre//Sabre VObject 4.5.8//EN
CALSCALE:GREGORIAN
BEGIN:VEVENT
UID:sabre-vobject-387d80e6-c5aa-47da-9f1c-731fa8722d45
DTSTAMP:20260421T152354Z
SUMMARY:Zeichnen lernen - Schritt für Schritt
DESCRIPTION:Freude am Zeichnen oder Lust\, es ganz neu zu lernen? In diesem
  Grundkurs werden die Teilnehmenden in die Grundlagen des Zeichnens eingef
 ührt. Sie beschäftigen sich mit Grundelementen des Zeichnens wie Linie\,
  Fläche\, Schattierungen\, Schraffuren\, Perspektive und Bildkomposition.
 \nMit diversen Materialien wie Kohle\, Bleistift\, Graphit oder Tusche und
  einer Vielzahl an kreativen Übungen schulen die Teilnehmenden das Auge u
 nd lernen das Gesehene gegenständlich abzubilden. Ob Porträt\, Stilllebe
 n\, Landschaften - alles ist möglich. Es sind keinerlei Vorkenntnisse nö
 tig. Der Kurs ist für Anfänger:innen und Fortgeschrittene. Sämtliche Ma
 terialien werden zur Verfügung gestellt.
LOCATION:Atelier KUNSTTRAUM\, Hafenstrasse 48\, 8280 Kreuzlingen
DTSTART;TZID=Europe/Zurich:20260528T190000
DTEND;TZID=Europe/Zurich:20260528T213000
ORGANIZER:KUNSTTRAUM Atelier Coaching Seminare Simone Hauck
END:VEVENT
END:VCALENDAR
