BEGIN:VCALENDAR
VERSION:2.0
PRODID:-//Sabre//Sabre VObject 4.5.8//EN
CALSCALE:GREGORIAN
BEGIN:VEVENT
UID:sabre-vobject-13c89142-e252-4b4b-8d0c-95a73092db05
DTSTAMP:20260421T102426Z
SUMMARY:Urban Sketching im Seeburgpark
DESCRIPTION:Die Teilnehmenden starten im Atelier mit einer kurzen Einführu
 ng in Material\, Perspektive und Komposition. Anschliessend geht es hinaus
  in den wunderschönen Seeburgpark\, wo sie die schöne Kulisse am See mit
  dem Semuseum und der Seeburg zeichnerisch festhalten. Ob zarte Baumstrukt
 uren\, bewegte Spaziergänger oder die Stimmung am See – sie lernen\, da
 s Gesehene mit lockerem Strich und persönlichem Ausdruck aufs Papier zu b
 ringen.\nDabei steht nicht die perfekte Zeichnung im Vordergrund\, sondern
  das bewusste Beobachten und das kreative Erleben des Augenblicks. Der Kur
 s ist für Einsteiger:innen und Fortgeschrittene geeignet\, die Freude am 
 Zeichnen im Freien haben. Sämtliche Materialien stehen im Kurs zur Verfü
 gung.\nMitnehmen: Getränke\, Snack 
LOCATION:Atelier KUNSTTRAUM\, Hafenstrasse 48\, 8280 Kreuzlingen
DTSTART;TZID=Europe/Zurich:20260627T090000
DTEND;TZID=Europe/Zurich:20260627T130000
ORGANIZER:KUNSTTRAUM Atelier Coaching Seminare Simone Hauck
END:VEVENT
END:VCALENDAR
