BEGIN:VCALENDAR
VERSION:2.0
PRODID:-//Sabre//Sabre VObject 4.5.8//EN
CALSCALE:GREGORIAN
BEGIN:VEVENT
UID:sabre-vobject-4450c663-8a26-4b2b-b7cc-4fbd17816ed1
DTSTAMP:20260421T085711Z
SUMMARY:Matinée: Vogelstimmen
DESCRIPTION:Le Rappel des Oiseaux! Eine musikalische Vielfalt aus vier Jahr
 hunderten\, von François Couperin bis Daniel Schnyder: Die Nachtigall\, d
 er Stieglitz\, der Kuckuck\, verschiedene Waldvögel\, ja sogar der Spatz 
 aus Paris kommen angeflogen.\nDie Gäste hören ihre Stimmen\, lernen ihre
  Sprache und lauschen der Lerche in einem Märchen. Haika Lübcke und Ina 
 Callejas präsentieren dieses bunte Programm in der seltenen Besetzung Akk
 ordeon und Flöten in allen Grössen – von der Piccolo- bis zur Bassflö
 te. \nAusstellungen im Anschluss geöffnet.
LOCATION:Museum Rosenegg\, Bärenstrasse 6\, 8280 Kreuzlingen
DTSTART;TZID=Europe/Zurich:20260419T110000
DTEND;TZID=Europe/Zurich:20260419T110000
ORGANIZER:Museum Rosenegg
END:VEVENT
END:VCALENDAR
