BEGIN:VCALENDAR
VERSION:2.0
PRODID:-//Sabre//Sabre VObject 4.5.8//EN
CALSCALE:GREGORIAN
BEGIN:VEVENT
UID:sabre-vobject-80b3c5d4-90ac-4564-a7d9-3f143afb03a5
DTSTAMP:20260421T122356Z
SUMMARY:Helga Schneider: Ich weiss
DESCRIPTION:Helga Schneider teilt noch einmal kräftig aus: Mit ihrer Fraue
 npower\, Stimmgewalt und Bühnenpräsenz bringt sie ihr Publikum in ihrem 
 6. Soloprogramm wieder zum Lachen. Auch mit 60 ist Helga längst nicht K.o
 .! Sie verteilt mit ihrer Schlagfertigkeit verbale Kinnhaken in alle Richt
 ungen.\\n\\nNach bald 40 Jahren Showbusiness in den Knochen und mit 1965 i
 m Pass fragt sie sich\, wann ist fertig lustig? Ist das Verbrauchsdatum zu
 m Greifen nahe\, sollte man beginnen\, die Alterspubertät auszuleben. Sch
 neeweiss und (k)ein bisschen weiser\, will Helga es noch einmal wissen: W
 äre es nicht höchste Zeit für eine Hochzeit ganz in Weiss?\nDenn Weiss 
 ist ein buntes Feuerwerk\, ein spektrales Ereignis aus Rot-Grün-Blau und 
 keineswegs unbunt\, wie die Wissenschaft behauptet. Helga ist zwar eher ro
 t und grün\, aber auch gerne mal blau. Die Natur lebt es uns vor: Nach de
 r Blüte kommt die Frucht! Und reife Früchte sollte man nicht spritzen\, 
 sondern ernten.
LOCATION:Kongresszentrum Thurgauerhof\, Felsenstrasse 6\, 8570 Weinfelden
DTSTART;TZID=Europe/Zurich:20261217T200000
DTEND;TZID=Europe/Zurich:20261217T221500
ORGANIZER:rhc gmbh
END:VEVENT
END:VCALENDAR
