BEGIN:VCALENDAR
VERSION:2.0
PRODID:-//Sabre//Sabre VObject 4.5.8//EN
CALSCALE:GREGORIAN
BEGIN:VEVENT
UID:sabre-vobject-6ee7ca3b-04ea-4dc4-8de3-7a2af65154f4
DTSTAMP:20260421T104048Z
SUMMARY:Besenkammerspiele
DESCRIPTION:Eigenproduktion\\nIdee und Umsetzung: Back to Wollyhood\n\\n+++
  Achtung: Diese Produktion findet nicht im Kellertheater\, sondern an eine
 m externen Spielort statt! Die Teilnehmenden werden nach Reservationen/Kau
 f des Tickets kurz vorher an den Spielort geleitet. +++\n\\n«Pssst...Scho
 n gehört?!»\nIn den verstecktesten Ecken Winterthurs tut sich was: Mit d
 en Besenkammerspielen erobert das Kellertheater Räume\, in denen sonst ke
 in Theater stattfindet. Unbekannte Orte treffen dabei auf ungewohnte Insze
 nierungen\, denn: Der Ort inspiriert die Textauswahl\, seine Beschaffenhei
 t gibt den Rahmen der «Bühne» vor. Daraus entstehen spannende\, inspiri
 erende\, überraschende Theaterabende\, die das Publikum abseits der gewoh
 nten Pfade führen und Winterthur auf neue Art entdecken lassen.\nJede Men
 ge Platz also für Kreativität und Spontaneität! Was nicht nur für die 
 Künstler:innen gilt\, sondern auch für das Publikum: Der Aufführungsort
  wird erst kurz vorher verraten\, nach eurer Anmeldung bzw. Ticketbuchung\
 , und die Art der Aufführung und was zu sehen sein wird\, bleibt bis zum 
 Abend geheim...\nNeugierig geworden? Dann raus aus der Komfortzone und rau
 s ins Theater!
LOCATION:Ort wird nach Reservation/Ticketkauf per Mail mitgeteilt\, 8400 Wi
 nterthur
DTSTART;TZID=Europe/Zurich:20260530T200000
DTEND;TZID=Europe/Zurich:20260530T213000
ORGANIZER:Kellertheater Winterthur
END:VEVENT
END:VCALENDAR
