BEGIN:VCALENDAR
VERSION:2.0
PRODID:-//Sabre//Sabre VObject 4.5.8//EN
CALSCALE:GREGORIAN
BEGIN:VEVENT
UID:sabre-vobject-a9dadb23-76c2-494d-8963-14c49fc5ddd0
DTSTAMP:20260421T122452Z
SUMMARY:Judith Bach: Streuselkuchen
DESCRIPTION:Ein Stück für alle von Claire\nIdee und Spiel: Judith Bach (a
 ls Claire)\\nRegie: Cornelia Montani / Paul Steinmann\\nMuikalische Leitun
 g: Markus Schönholzer\\nPiano-Arr.: Thomas Silvestri\nDauer : 90 min\\n\\
 n\nClaire zum Dritten - mit einer Überraschung...\nIn ihrem dritten Solop
 rogramm schmettert Claire Lieblingslieder\, verspielt sich hin und wieder 
 gerne am Klavier und überrascht ihr Publikum mit einer grossen Neuigkeit:
  Die Berlinerin wird Schweizerin!\nBeim Umzug stolpert sie über ein Tageb
 uch ihrer heissgeliebten Oma Fritz. Die Einträge schildern einen erstaunl
 ich lebendigen Alltag im Altersheim und sind eine liebevolle Erinnerung da
 ran\, dass es für Schabernack nie zu spät ist.\n«Streuselkuchen – ein
  Stück für alle» ist ein erfrischendes Chansonkabarett über das Neuanf
 angen - und alles\, was Heimat werden kann. Frech\, fein und vehlerfrei.\n
 Gefördert durch Stadt Schaffhausen\, Kanton Schaffhausen\, Gemeinde Zell
LOCATION:Kellertheater Winterthur\, Marktgasse 53\, 8401 Winterthur
DTSTART;TZID=Europe/Zurich:20260606T173000
DTEND;TZID=Europe/Zurich:20260606T190000
ORGANIZER:Kellertheater Winterthur
END:VEVENT
END:VCALENDAR
