BEGIN:VCALENDAR
VERSION:2.0
PRODID:-//Sabre//Sabre VObject 4.5.8//EN
CALSCALE:GREGORIAN
BEGIN:VEVENT
UID:sabre-vobject-b3cd501c-3de9-4af4-ab77-e6810705caa1
DTSTAMP:20260419T221223Z
SUMMARY:KAFF Pub Quiz
DESCRIPTION:Was Liga? \\nStell dir vor\, du spielst Rundlauf mit Böhnli - 
 Samesame!\\nAb jetzt zählt beim KAFF Quiz jeder Sieg und am Ende der Liga
  gibt's die SUPER-Gewinner*innen Krönung der Hyper-Quiz-Playerz.\nBist du
  ready? \\nDann melde dich gleich mit deinem (max) 5er Team an bei gastro@
 kaff.ch oder komm spontan vorbei! \nMit Fragen wie:\\nMit welchem Haustie
 r ist die neue Öpfelkönigin aufgewachsen?\\nUnd hat es im Schloss Frauen
 feld wirklich mal Löwen gehabt?\\n(sehr wahrscheinlich andere Fragen)
LOCATION:KAFF Kulturlokal\, Zeughausstrasse 13\, 8500 Frauenfeld
DTSTART;TZID=Europe/Zurich:20260508T200000
DTEND;TZID=Europe/Zurich:20260508T200000
ORGANIZER:Kulturlokal KAFF - Kulturarbeit für Frauenfeld
END:VEVENT
END:VCALENDAR
