BEGIN:VCALENDAR
VERSION:2.0
PRODID:-//Sabre//Sabre VObject 4.5.8//EN
CALSCALE:GREGORIAN
BEGIN:VEVENT
UID:sabre-vobject-e91baf9b-d9a9-4a49-bde9-ed1170be2391
DTSTAMP:20260421T120248Z
SUMMARY:Baschi
DESCRIPTION:Nach dem gross gefeierten 20-Jahre-Jubiläumskonzert in Gelterk
 inden 2024 meldet sich der Schweizer Mundart-Musiker Baschi mit neuer Ener
 gie und frischem musikalischem Elan zurück. 2026 geht einer der charismat
 ischsten Live-Performer des Landes erneut auf grosse Konzertreise. Er ist 
 bereit\, gemeinsam mit seinem Publikum das nächste Kapitel seiner beeindr
 uckenden Karriere aufzuschlagen. \\n\\nSeit seinem Durchbruch im Jahr 2004
  steht Baschi für ehrliche Texte\, zeitlose Melodien und eine Bühnenprä
 senz\, die von Authentizität und Leidenschaft getragen wird. Hits wie «B
 ring en hei»\, «Wenn das Gott wüsst» oder «Ehrlich» sind längst zu 
 festen Bestandteilen des Schweizer Musikguts geworden. Doch Stillstand ken
 nt der Musiker nicht: «Ich arbeite aktuell intensiv an meinem neuen Studi
 oalbum und freue mich riesig darauf\, die neuen Songs dann auf Tour mit me
 inen Fans zu feiern»\, blickt Baschi voraus. \\n\\nDie neue Tour knüpft 
 an den Erfolg der vergangenen Jahre an und führt Baschi näher denn je an
  sein Publikum heran. Nahbar\, humorvoll und mit viel Herzblut zeigt er si
 ch von jener Seite\, die ihn seit zwei Jahrzehnten zu einem der beliebtest
 en Live-Künstler der Schweiz macht.
LOCATION:Kulturzentrum Presswerk\, Hamelstrasse 15\, 9320 Arbon
DTSTART;TZID=Europe/Zurich:20270227T200000
DTEND;TZID=Europe/Zurich:20270227T200000
ORGANIZER:Kulturzentrum Presswerk AG
END:VEVENT
END:VCALENDAR
