BEGIN:VCALENDAR
VERSION:2.0
PRODID:-//Sabre//Sabre VObject 4.5.8//EN
CALSCALE:GREGORIAN
BEGIN:VEVENT
UID:sabre-vobject-a0569efd-b8c9-4abb-8eb1-3a8c6139821d
DTSTAMP:20260421T104047Z
SUMMARY:Sek Weinfelden in Concert
DESCRIPTION:Türöffnung 13.15 Uhr und 19 Uhr
LOCATION:Kongresszentrum Thurgauerhof\, Felsenstrasse 6\, 8570 Weinfelden
DTSTART;TZID=Europe/Zurich:20260612T133000
DTEND;TZID=Europe/Zurich:20260612T150000
ORGANIZER:Samuel Curau
END:VEVENT
END:VCALENDAR
