BEGIN:VCALENDAR
VERSION:2.0
PRODID:-//Sabre//Sabre VObject 4.5.8//EN
CALSCALE:GREGORIAN
BEGIN:VEVENT
UID:sabre-vobject-93ed1f02-c951-4976-8f20-03d2f7a48ec4
DTSTAMP:20260421T123532Z
SUMMARY:Produziere deine Musik
DESCRIPTION:Die Musik entsteht komplett in Eigenregie: Vom Keyboardspiel ü
 ber Sampling bis hin zum Mixing werden alle Schritte abgedeckt\, die zu ho
 chwertigen Beats und Loops führen. Am Ende können die entstandenen Werke
  nicht nur veröffentlicht\, sondern auch an renommierte internationale K
 ünstler:innen weitergegeben werden.
LOCATION:Talenticum\, Bahnhofstrasse 40a\, 8590 Romanshorn
DTSTART;TZID=Europe/Zurich:20260507T181500
DTEND;TZID=Europe/Zurich:20260507T201500
ORGANIZER:Talenticum
END:VEVENT
END:VCALENDAR
