BEGIN:VCALENDAR
VERSION:2.0
PRODID:-//Sabre//Sabre VObject 4.5.8//EN
CALSCALE:GREGORIAN
BEGIN:VEVENT
UID:sabre-vobject-8694af4c-c3e2-4024-8e16-14c4f7869adf
DTSTAMP:20260421T103953Z
SUMMARY:Erfinder:innen-Werkstatt
DESCRIPTION:In unserer Werkstatt können mit einer Vielzahl an Materialien 
 und modernster Technik spannende Projekte verwirklicht werden\, ob mit Hol
 z\, 3D-Druck oder Lasercutter.\n 
LOCATION:Talenticum\, Bahnhofstrasse 40a\, 8590 Romanshorn
DTSTART;TZID=Europe/Zurich:20260603T140000
DTEND;TZID=Europe/Zurich:20260603T163000
ORGANIZER:Talenticum
END:VEVENT
END:VCALENDAR
