BEGIN:VCALENDAR
VERSION:2.0
PRODID:-//Sabre//Sabre VObject 4.5.8//EN
CALSCALE:GREGORIAN
BEGIN:VEVENT
UID:sabre-vobject-fd8c1c43-66ad-4670-965a-7288f5f2c073
DTSTAMP:20260421T103952Z
SUMMARY:Erfinder:innen-Werkstatt
DESCRIPTION:In unserer Werkstatt können mit einer Vielzahl an Materialien 
 und modernster Technik spannende Projekte verwirklicht werden\, ob mit Hol
 z\, 3D-Druck oder Lasercutter.\n 
LOCATION:Talenticum\, Bahnhofstrasse 40a\, 8590 Romanshorn
DTSTART;TZID=Europe/Zurich:20260422T140000
DTEND;TZID=Europe/Zurich:20260422T163000
ORGANIZER:Talenticum
END:VEVENT
END:VCALENDAR
