BEGIN:VCALENDAR
VERSION:2.0
PRODID:-//Sabre//Sabre VObject 4.5.8//EN
CALSCALE:GREGORIAN
BEGIN:VEVENT
UID:sabre-vobject-bfe466ff-895a-44dd-a6c3-ba5c27246e54
DTSTAMP:20260421T102426Z
SUMMARY:Konzert in der Kirche Musikverein Weinfelden
DESCRIPTION:
LOCATION:Röm.-kath. Pfarreizentrum Weinfelden\, Freiestrasse 13\, 8570 Wei
 nfelden
DTSTART;TZID=Europe/Zurich:20261122T170000
DTEND;TZID=Europe/Zurich:20261122T170000
ORGANIZER:Musikverein Weinfelden
END:VEVENT
END:VCALENDAR
