BEGIN:VCALENDAR
VERSION:2.0
PRODID:-//Sabre//Sabre VObject 4.5.8//EN
CALSCALE:GREGORIAN
BEGIN:VEVENT
UID:sabre-vobject-c3f47667-7d33-41eb-97a3-e8c4603af74a
DTSTAMP:20260421T102343Z
SUMMARY:Andy McSean
DESCRIPTION:Der Konzertabend beginnt intim und handgemacht – mit einem So
 lo-Set von Andy McSean. In diesem reduzierten Rahmen präsentiert er seine
  Songs so unverfälscht\, wie sie entstanden sind: mit markanter Stimme\, 
 starken Melodien und der Präsenz eines Künstlers\, der den Weg vom Stras
 senkünstler bis hin zu einem etablierten Act der Schweizer Musikszene geg
 angen ist. Seit 2011 ist der Thurgauer Singer-Songwriter als Solokünstler
  permanent live unterwegs und hat sich mit Strassenmusik von St. Gallen bi
 s Dublin nicht nur eine stetig wachsende Zuhörerschaft\, sondern auch die
  Finanzierung seines Debütalbums «Passenger» erspielt. Sein zweites Alb
 um «Changes and Chances» entstand in Zusammenarbeit mit dem renommierten
  Produzententeam des «Department of Noise» (Seven\, Marc Sway\, Caroline
  Chevin u. v. m.). Mit Radiohits wie «Coming Back»\, zahlreichen Musikvi
 deos\, mehreren TV-Features und jährlich rund 60 Konzerten im In- und Aus
 land hat sich McSean als beständiger\, vielseitiger und eigenständiger P
 opkünstler etabliert.\nIm zweiten Teil des Abends erweitert Kevin Akerman
 n den Sound von Andy McSean. Aus dem Unplugged-Start entwickelt sich ein d
 ynamischer\, stimmungsvoller Konzertabend. Akermann ist ein erfahrener Stu
 dio- und Live-Drummer mit beeindruckender Präzision und breiter Bühnener
 fahrung. Er arbeitet regelmässig in Studio-Produktionen\, tourt mit versc
 hiedenen Acts aus dem In- und Ausland – zuletzt u. a. mit Monet192 und R
 apture Boy – und stand auch schon mit James Blunt auf der Bühne.\nIm Du
 o legt die Musik spürbar an Energie zu: McSeans eingängige Pop-Songs tre
 ffen auf Akermanns präzise\, treibende Grooves – eine Kombination\, die
  live richtig Bewegung reinbringt und den Songs ein neues Level verleiht. 
 Zudem erhält das Publikum einen exklusiven Vorgeschmack auf neue Stücke 
 der kommenden EP «Wild Child»\, die an diesem Abend noch vor ihrer Verö
 ffentlichung vorgestellt werden.\nLasst euch diesen besonderen Abend nicht
  entgehen und erlebt die Premiere des neuen Duos sowie brandneue Songs ers
 tmals live.
LOCATION:Bild-Rauschen-Studio\, Industriestrasse 6a\, 8575 Bürglen TG
DTSTART;TZID=Europe/Zurich:20260509T201500
DTEND;TZID=Europe/Zurich:20260509T201500
ORGANIZER:Verein Kulturrausch
END:VEVENT
END:VCALENDAR
