BEGIN:VCALENDAR
VERSION:2.0
PRODID:-//Sabre//Sabre VObject 4.5.8//EN
CALSCALE:GREGORIAN
BEGIN:VEVENT
UID:sabre-vobject-20a8f24e-2976-4425-9f26-ee013d0a234a
DTSTAMP:20260421T123632Z
SUMMARY:Offener Bar-Abend Juni
DESCRIPTION:Der Verein Kulturrausch lädt zum offenen Bar-Abend im Bild-Rau
 schen-Studio in Bürglen ein. An diesem Abend servieren wir wieder unsere 
 feinen\, handgemachten Flammkuchen oder ein mediterranes Plättli. \nAb 1
 9:00 Uhr geöffnet. Das Publikum geniesst den Feierabend in heimeliger Atm
 osphäre\, trifft nette Menschen und geniesst einen feinen Snack. Ob allei
 ne\, mit Freunden oder mit Partner:in – hier findet jede:r Platz.
LOCATION:Bild-Rauschen-Studio\, Industriestrasse 6a\, 8575 Bürglen TG
DTSTART;TZID=Europe/Zurich:20260626T190000
DTEND;TZID=Europe/Zurich:20260626T190000
ORGANIZER:Verein Kulturrausch
END:VEVENT
END:VCALENDAR
