BEGIN:VCALENDAR
VERSION:2.0
PRODID:-//Sabre//Sabre VObject 4.5.8//EN
CALSCALE:GREGORIAN
BEGIN:VEVENT
UID:sabre-vobject-7b741b09-330c-4cb9-8f14-791032174f25
DTSTAMP:20260421T091223Z
SUMMARY:Bridges of Sound
DESCRIPTION:2 Konstanzer Chöre singen gefühlvolle Pop-Balladen\, fetzige 
 Chorsongs u. berührende Harmonien\, die unter die Haut gehen - Musik die 
 bewegt\, verbindet und zum Mitsummen oder Mitsingen einlädt.Einlass 18.30
  Uhr
LOCATION:Dorfzentrum Bottighofen\, Schulstrasse 4\, 8598 Bottighofen
DTSTART;TZID=Europe/Zurich:20261115T190000
DTEND;TZID=Europe/Zurich:20261115T210000
ORGANIZER:ChorohneNamen
END:VEVENT
END:VCALENDAR
