BEGIN:VCALENDAR
VERSION:2.0
PRODID:-//Sabre//Sabre VObject 4.5.8//EN
CALSCALE:GREGORIAN
BEGIN:VEVENT
UID:sabre-vobject-1ceca348-b031-4fb7-af51-cbd8c5174a73
DTSTAMP:20260421T120251Z
SUMMARY:Florian Schroeder
DESCRIPTION:Ein Jahr\, in dem niemand mehr weiß\, was minus und was plus i
 st\, wer Gewinner und wer Verlierer – schließlich gibt es nur noch Gewi
 nner. Darum wird die Welt auch in diesem Jahr wieder verlässlich untergeh
 en. Wie jedes Jahr. Da muss man sich zusammennehmen\, um den Humor nicht z
 u verlieren. Schroeder hilft und pfeift ab: „Schluss jetzt!“ – der e
 inzig richtige Jahresrückblick.\nSchroeder analysiert\, kommentiert und p
 arodiert. Von der großen Politik bis zu den kleinen Ereignissen des Allta
 gs. Zwölf Monate in zwei Stunden – schnell\, lustig\, böse und keine S
 ekunde langweilig. Und das Beste: Es wird nicht gesungen\, nicht geschunke
 lt und Heizdecken gibt es auch keine. Dafür aber Satire\, Comedy und jede
  Menge Spaß. Rufen Sie einen Abend lang „Schluss jetzt!“ und lachen S
 ie über den Wahnsinn eines ganzen Jahres. Denn Schroeder\, das ist ein Ty
 p\, der kämpft für Sie: mal mit dem Florett\, mal mit dem Hammer\, aber 
 immer auf den Punkt. Am Ende des Abends werden Sie sagen: Schluss jetzt? N
 ee\, mehr davon! Aber klar – im nächsten Jahr dann! \nSeit vielen Jahr
 en begeistert er regelmäßig auf der Allensbacher Bühne und bewegt sich 
 virtuos zwischen Kabarett und Comedy\, zwischen Politik und Philosophie. E
 r gehört zu den Großen der Kabarettszene und hat so gut wie jeden Kabare
 ttpreis gewonnen.\nZum ersten Mal ist er mit seinem satirischen Jahresrüc
 kblick mit Kult-Status in Allensbach zu Gast.
LOCATION:Bodanrückhalle\, Schulstr. 12\, 78476 Allensbach
DTSTART;TZID=Europe/Zurich:20270122T200000
DTEND;TZID=Europe/Zurich:20270122T200000
ORGANIZER:Kultur- und Tourismusbüro Allensbach
END:VEVENT
END:VCALENDAR
