BEGIN:VCALENDAR
VERSION:2.0
PRODID:-//Sabre//Sabre VObject 4.5.8//EN
CALSCALE:GREGORIAN
BEGIN:VEVENT
UID:sabre-vobject-1940fd6e-eff8-4af4-8513-88bdd538db5c
DTSTAMP:20260421T103954Z
SUMMARY:Rolf Miller
DESCRIPTION:Der Wortkünstler ohne viele Worte kommt mit seinem neuen Progr
 amm „ICH SAG NIX“ wieder nach Allensbach. Und keiner sagt so gut nicht
 s und dabei alles wie Rolf Miller. Die Presse schreibt „Sternstunde des 
 Stotterns und Stammelns... über das man permanent lachen muss und deshalb
  gar nicht gleich merkt\, welche Abgründe uns Miller da verschleiert...
 “ Dafür wurde er u.a. mit dem Deutschen Kleinkunstpreis ausgezeichnet.\
 nImmer indirekt\, immer nebensächlich\, geradezu unbeteiligt jubelt uns d
 er grandiose Satiriker das bedeutungslose Nichts unseres Seins unter mit b
 rutalem Gefühl fürs Gespür. Lebe nicht dein Leben\, träume deinen Trau
 m\, denn das Ziel ist im Weg. Äh\, hä!? - Genau. Miller zeigt dir den Tr
 aum deiner Ziele.\nAber steht ICH SAG NIX vielleicht auch für „darf man
  noch alles sagen?“ Nein: Rolf Miller schert das Null. Im Gegenteil\, je
 der hat das Recht beleidigt\, verarscht und geprügelt zu werden. Es ist e
 ine Stilfrage wie die Gemeinheiten\, die uns das Leben versüßen\, verabr
 eicht werden. Wir verzeihen Miller das Gift\, er kann nicht anders. Das Wi
 e ist entscheidend. Also\, vielleicht sehen wir uns das nächste Mal\, wen
 n wir uns treffen!\nEin Chaos der verqueren Pointen\, mal ums Eck\, mal ge
 rade\, mit und ohne Dings\, aber mit 50% Halbsatz-Garantie oder auch nix -
   einfach „eiwanfrei“.  
LOCATION:Pfarrheim Allensbach\, Kirchgasse 4\, 78476 Allensbach
DTSTART;TZID=Europe/Zurich:20261119T200000
DTEND;TZID=Europe/Zurich:20261119T200000
ORGANIZER:Kultur- und Tourismusbüro Allensbach
END:VEVENT
END:VCALENDAR
