BEGIN:VCALENDAR
VERSION:2.0
PRODID:-//Sabre//Sabre VObject 4.5.8//EN
CALSCALE:GREGORIAN
BEGIN:VEVENT
UID:sabre-vobject-d4818a0e-7ae7-4ff8-9eb8-392befd055b9
DTSTAMP:20260419T145520Z
SUMMARY:Miss Daisy und ihr Chauffeur
DESCRIPTION:Atlanta\, Georgia\, 1948: Miss Daisy ist eine 72-jährige pensi
 onierte Schullehrerin. Nachdem sie eines Tages mit ihrem Auto einen Unfall
  verursacht hat\, kauft Sohn Boolie ihr einen neuen Wagen und engagiert vo
 rsichtshalber den Schwarzen Hoke Coleburn als Chauffeur.\nHoke\, mit seine
 n 60 Jahren selbst nicht mehr der Jüngste\, ist ein ruhiger\, lebenskluge
 r Mann und somit der ideale Gegenpart zur egozentrischen Miss Daisy\, die 
 sich hartnäckig weigert\, seine Dienste in Anspruch zu nehmen. Mit Ausdau
 er und unbeeindruckt von mancher unfreundlichen Bemerkung der alten Dame s
 chafft es Hoke schließlich\, dass Miss Daisy in den Wagen einsteigt\, und
  allmählich entsteht während der gemeinsamen Ausfahrten zwischen dem ung
 leichen Paar eine respektvolle Sympathie.\nGenügend Zündstoff für dauer
 hafte Spannung liefert schon der reale historische Rahmen\, dem die beiden
  Protagonisten entstammen\, Sphären\, die unterschiedlicher kaum sein kö
 nnten: Hier die wohlhabende\, gebildete jüdische Südstaaten-Lady\, dort 
 der Schwarze Angestellte aus der Unterschicht in einer Epoche\, in der die
  Rassentrennung in den USA noch fast selbstverständlich den Alltag der Me
 nschen bestimmte.
LOCATION:Tonhalle Wil\, Tonhallestrasse 29\, 9500 Wil SG
DTSTART;TZID=Europe/Zurich:20260502T200000
DTEND;TZID=Europe/Zurich:20260502T200000
ORGANIZER:Tonhalle Wil
END:VEVENT
END:VCALENDAR
