BEGIN:VCALENDAR
VERSION:2.0
PRODID:-//Sabre//Sabre VObject 4.5.8//EN
CALSCALE:GREGORIAN
BEGIN:VEVENT
UID:sabre-vobject-6812101c-c16c-4997-96db-69991be9e064
DTSTAMP:20260421T105141Z
SUMMARY:Würde Salon im Tapetenwechsel - 2026
DESCRIPTION:Im Würde Salon findet über das philosophische Gespräch und k
 ünstlerischen Ausdruck eine vertiefte Auseinandersetzung mit der menschli
 chen Würde im Kontext zum jeweiligen Abendthema statt. Der Blick wird ges
 chärft\, Fokussierung und Integration.
LOCATION:Tapetenwechsel\, Schwalbenweg 1\, 8500 Frauenfeld
DTSTART;TZID=Europe/Zurich:20261116T180000
DTEND;TZID=Europe/Zurich:20261116T203000
ORGANIZER:Tapetenwechsel Tageszentrum + Atelier
END:VEVENT
END:VCALENDAR
