BEGIN:VCALENDAR
VERSION:2.0
PRODID:-//Sabre//Sabre VObject 4.5.8//EN
CALSCALE:GREGORIAN
BEGIN:VEVENT
UID:sabre-vobject-9eef443e-3714-4c26-9557-8d0a6085f64e
DTSTAMP:20260421T105141Z
SUMMARY:Geschichte erleben im Naturpark auf Schloss Wellenberg
DESCRIPTION:
LOCATION:Schloss Wellenberg\, Schloss Wellenberg 1\, 8500 Frauenfeld
DTSTART;TZID=Europe/Zurich:20270530T110000
DTEND;TZID=Europe/Zurich:20270530T170000
ORGANIZER:Stiftung Schloss Wellenberg
END:VEVENT
END:VCALENDAR
