BEGIN:VCALENDAR
VERSION:2.0
PRODID:-//Sabre//Sabre VObject 4.5.8//EN
CALSCALE:GREGORIAN
BEGIN:VEVENT
UID:sabre-vobject-9e224762-4d88-4cb1-8241-ce58ea8cae54
DTSTAMP:20260419T145504Z
SUMMARY:Autobiographisches Schreiben
DESCRIPTION:Jede Lebensgeschichte ist einzigartig – voller Erinnerungen\,
  Erlebnisse\, Höhen und Tiefen\, die es verdienen\, erzählt zu werden. D
 ie Herausforderung besteht darin\, den roten Faden zu finden und persönli
 che Erfahrungen in eine kraftvolle Erzählung zu verwandeln\, die nicht nu
 r das eigene Leben reflektiert\, sondern auch andere berührt.\nIn diesem 
 zweitägigen Seminar steht das Erkunden und Aufschreiben der eigenen Gesch
 ichte im Mittelpunkt – eine Einladung\, das Leben auf Papier festzuhalte
 n. Neben kleinen Schreibübungen behandeln wir auch:\n1. Die Struktur der 
 Lebensgeschichte finden\\n2. Erinnerungen lebendig machen\\n3. Authentizit
 ät und Schutz\\n4. Schreibübungen und Austausch\nInhalt: Übungen\, die 
 den Schreibfluss fördern und erste Passagen der eigenen Geschichte entste
 hen lassen. In einer geschützten und vertrauensvollen Atmosphäre werden 
 Texte vorgelesen und wertvolles Feedback für die Weiterentwicklung gegebe
 n. Austausch über die Besonderheiten des autobiografischen Schreibens\, d
 ie Herausforderungen und die Freiheiten\, die es bietet.\nDieses Seminar r
 ichtet sich an alle\, die ihre Lebensgeschichte festhalten möchten – se
 i es als persönliches Erinnerungsbuch\, als Geschenk für die Familie ode
 r mit dem Ziel einer Veröffentlichung.\nZwei Tage\, die Raum geben\, die 
 eigene Geschichte neu zu entdecken und Schritt für Schritt in Worte zu fa
 ssen. Ein Weg\, das eigene Leben aus einer neuen Perspektive zu betrachten
  und für die Zukunft festzuhalten.\nLeitung: Michèle Minelli Schreibwerk
  Ost\, Schriftstellerin und eidg. dipl. Ausbildungsleiterin
LOCATION:Iselisberg\, Iselisberg\, 8524 Uesslingen
DTSTART;TZID=Europe/Zurich:20260607T101500
DTEND;TZID=Europe/Zurich:20260607T181500
ORGANIZER:Schreibwerk Ost
END:VEVENT
END:VCALENDAR
