BEGIN:VCALENDAR
VERSION:2.0
PRODID:-//Sabre//Sabre VObject 4.5.8//EN
CALSCALE:GREGORIAN
BEGIN:VEVENT
UID:sabre-vobject-506a40cc-7007-46e3-9cbd-2686c37c420b
DTSTAMP:20260421T123532Z
SUMMARY:Atelier-Kurs - KUNST RAUM Malkurs fortlaufend Donnerstagmorgen
DESCRIPTION:Freude am kreativen Gestalten?\\nDas Atelier KUNSTTRAUM bietet 
 malbegeisterten Menschen Raum für das persönliche\, kreative Schaffen un
 d Gestalten. Ob malen\, zeichnen\, experimentieren mit Mixed Media - alles
  ist möglich. \\n\\nJede Woche wird gemeinsam mit einem Einstieg gestarte
 t. Nach einer kurzen Einführung in eine neue Maltechnik oder ein spezifis
 ches Thema kann dieses vertieft oder mit der eigenen Arbeit weitergefahren
  werden.\nFür den Gestaltungsprozess steht eine Fülle an Materialien zur
  Verfügung: Graphit-\, Blei-\, Filzstifte\, Kreiden\, Gouache\, Acryl\, C
 ollagematerial und vieles mehr. \\nVon der Bildidee über die Ideenskizze 
 bis hin zur Umsetzung wird jede/r Teilnehmende unterstützt und begleitet.
 \nDer Kursmorgen ist für Anfänger:innen und Fortgeschrittene geeignet.\n
 Kursdauer: 2.5h \\nZeit: 9.00 - 11.30 Uhr\nLeinwände können bei Bedarf i
 m Atelier erworben werden oder mitgebracht werden.\\nEs kann jederzeit ein
 gestiegen werden.
LOCATION:Atelier KUNSTTRAUM\, Hafenstrasse 48\, 8280 Kreuzlingen
DTSTART;TZID=Europe/Zurich:20260423T090000
DTEND;TZID=Europe/Zurich:20260423T113000
ORGANIZER:KUNSTTRAUM Atelier Coaching Seminare Simone Hauck
END:VEVENT
END:VCALENDAR
