BEGIN:VCALENDAR
VERSION:2.0
PRODID:-//Sabre//Sabre VObject 4.5.8//EN
CALSCALE:GREGORIAN
BEGIN:VEVENT
UID:sabre-vobject-79b63328-8397-4e2f-94fc-6b2fda83d343
DTSTAMP:20260421T123527Z
SUMMARY:Zukünfte schreiben - Labor für neue Welten
DESCRIPTION:Zukünfte schreiben – literarisches Labor für neue Narrative
 \nWelche Bilder entstehen\, wenn Geschichten entwickelt werden\, die nicht
  nur zwischen Utopie und Dystopie oszillieren\, sondern alternative Welten
  voller Möglichkeiten eröffnen?\\nNarrative Genres wie Solarpunk\, Hopep
 unk oder Speculative Fabulation regen dazu an\, Erzählweisen weiterzudenk
 en – und damit auch die Sicht auf Gegenwart und Zukünfte.\nDer Seminart
 ag ist als literarisches Zukunftslabor angelegt. Mit Impulsen aus Wissensc
 haft\, Kreativität und Imagination entstehen Texte\, die Horizonte öffne
 n: Geschichten\, Szenen oder Romanfragmente\, die neu\, eigenwillig und er
 frischend wirken. Ob Kurzgeschichte\, Erzählung oder literarische Miniatu
 r – jedes Werk entwickelt sich zu einem einzigartigen literarischen Expe
 riment.\nGleichzeitig wird die Fähigkeit gestärkt\, in „multiplen Zuk
 ünften“ zu denken – eine Kompetenz\, die nicht nur von der UNESCO als
  zentral für die kommenden Jahre hervorgehoben wird. Zwischen Stille\, Sc
 hreibfluss und Austausch entsteht ein Raum\, in dem Zukünfte fühlbar\, d
 enkbar und literarisch gestaltbar werden.\nEin Tag\, an dem Fantasie über
  Gewohntes hinauswächst\, mutiges Ausprobieren möglich wird und neue Ent
 würfe von Zukünften literarische Formen finden.\n \nSeminarleitung: Mic
 hèle Minelli\, Schreibwerk Ost
LOCATION:Schreibwerk Ost\, Iselisberg 14\, 8524 Uesslingen
DTSTART;TZID=Europe/Zurich:20260426T101500
DTEND;TZID=Europe/Zurich:20260426T181500
ORGANIZER:Schreibwerk Ost
END:VEVENT
END:VCALENDAR
