BEGIN:VCALENDAR
VERSION:2.0
PRODID:-//Sabre//Sabre VObject 4.5.8//EN
CALSCALE:GREGORIAN
BEGIN:VEVENT
UID:sabre-vobject-1236cf1b-4e0d-463b-a96e-61cee4748ca7
DTSTAMP:20260421T103954Z
SUMMARY:Ein Kriminalbeamter in deinem Dienst
DESCRIPTION:Dieses Seminar hat das Schreibwerk Ost gemeinsam mit einem Krim
 inalbeamten entwickelt. Damit schliessen wir eine wichtige Lücke\, nämli
 ch die Lücke\, die sich bei allen Krimischreibenden irgendwann auftut: "K
 ann das wirklcih sein?\nIn diesem Seminar lassen sich alle Kriminalfragen 
 klären\, so dass der eigene Krimi auf stabilen Beinen steht. Denn an dies
 em Seminartag geht es ganz konkret um: Polizeiarbeit.\nInhalt wird sein:\\
 n- Allgemeine nützliche Informationen über Polizeiarbeit (fürs Krimi Sc
 hreiben)\\n- Gefühle und Umgang mit Schwierigem als Polizist\\n- Do’s a
 nd Dont’s\\n- Recherche-Wege\\n- Beispiele aus der eigenen Praxis als Kr
 imi-Autor\\n- konkrete Beantwortung deiner Fragen \\n- Austausch\, Tipps 
 und Tricks\n \nStimmen von Teilnehmer:innen dieses Seminars:\\n- Das Semi
 nar war der Hammer! (Ruth B.)\\n- Wir bekamen einen tiefen Einblick davon\
 , was in einem Polizisten vorgeht\, wenn er den Tatort eines Mordfalls sic
 hert\, in das Leben eines toten Menschen eintaucht\, um nach dem Warum sei
 nes Todes zu graben\, und wie es für ihn ist\, wenn er Angehörigen die N
 achricht des Todes überbringen muss - persönliche Einblicke\, die wir du
 rch reine Recherche über Mordmethoden\, Forensik und Ermittlungstechniken
  so nie erhalten hätten. (Evi W.)\n \nLeitung: Manfred Kieber\, Kriminal
 beamter a.D und Krimiautor
LOCATION:Schreibwerk Ost\, Iselisberg 14\, 8524 Uesslingen
DTSTART;TZID=Europe/Zurich:20260606T101400
DTEND;TZID=Europe/Zurich:20260606T181500
ORGANIZER:Schreibwerk Ost
END:VEVENT
END:VCALENDAR
