BEGIN:VCALENDAR
VERSION:2.0
PRODID:-//Sabre//Sabre VObject 4.5.8//EN
CALSCALE:GREGORIAN
BEGIN:VEVENT
UID:sabre-vobject-f1228910-6762-4687-9d45-83d98947d11f
DTSTAMP:20260421T103036Z
SUMMARY:Bliss Kater
DESCRIPTION:Bliss hat einen «Kater» «Da war doch noch was...?» Ihr 25. 
 Jubiläum haben die fünf Bliss-Männer schlichtweg verschlafen. Darum wir
 d jetzt nachgefeiert – natürlich altersgerecht! Mit einem Prost auf die
  Prostata und einem Ja zur Lesebrille widmen sich Bliss den Herausforderun
 gen der Lebensmitte. Denn wenn der Michi plötzlich Mike heisst und der Fl
 eischtiger zum Tofu-Spiesser wird\, dann ist es Zeit für eine Zwischenbil
 anz.\nFür einen Blick zurück auf knackig-coole Bliss-Buben\, die zwische
 n Rheineck und Berneck nach Weltruhm streben. Und für einen Blick nach vo
 rne\, wenn dereinst fünf Sing-Senioren mit Hörgerät und Blutdrucksenker
  über die Bühne schlurfen. Feiert mit Bliss ein altes Jubiläum und eine
 n neuen Lebensabschnitt. Mit viel Musik und Comedy\, und meist ohne Kater.
  
LOCATION:Kongresszentrum Thurgauerhof\, Felsenstrasse 6\, 8570 Weinfelden
DTSTART;TZID=Europe/Zurich:20260507T193000
DTEND;TZID=Europe/Zurich:20260507T193000
ORGANIZER:Stadt Weinfelden
END:VEVENT
END:VCALENDAR
