BEGIN:VCALENDAR
VERSION:2.0
PRODID:-//Sabre//Sabre VObject 4.5.8//EN
CALSCALE:GREGORIAN
BEGIN:VEVENT
UID:sabre-vobject-4af293d2-d226-418a-b085-d5704cbdf1ea
DTSTAMP:20260421T104046Z
SUMMARY:Sankt Nikolausaktion Weinfelden
DESCRIPTION:Der Sankt Nikolaus und sein Schmutzli werden dieses Jahr von Do
 nnerstag\, 3. Dezember 2026 bis Sonntag\, 6. Dezember 2026 in Weinfelden u
 nd Umgebung unterwegs sein.\nDabei kommen sie sehr gerne zu einem gebuchte
 n Termin zu den Familien nach hause. Es besteht auch die Möglichkeit\, de
 n Samichlaus und den Schmutzli im Wald zu besuchen.\nWeiter sind die beide
 n auch ohne Anmeldung zu bestimmten Zeiten auf dem Rössli-Felsen-Platz od
 er im Waldhüsli auf dem Ottenberg anzutreffen.\nÖffentliche Besuche ohne
  Anmeldung: \\nAm Samstag\, 5.12.26 zwischen 09:00 und 16:00 Uhr auf dem R
 össli-Felsen-Platz \\nAm Sonntag \, 6.12.26 zwischen 10:00 und 16:00 Uhr 
 in seinem Waldhüsli auf dem Ottenberg
LOCATION:St. Niklausgesellschaft Weinfelden\, 8570 Weinfelden
DTSTART;TZID=Europe/Zurich:20261205T000000
DTEND;TZID=Europe/Zurich:20261205T000000
ORGANIZER:St. Nikolausgesellschaft Weinfelden
END:VEVENT
END:VCALENDAR
