BEGIN:VCALENDAR
VERSION:2.0
PRODID:-//Sabre//Sabre VObject 4.5.8//EN
CALSCALE:GREGORIAN
BEGIN:VEVENT
UID:sabre-vobject-b75a5390-1037-4706-8c3d-ecdf625feb9e
DTSTAMP:20260421T123527Z
SUMMARY:Schön & Gut - Unter freiem Himmel
DESCRIPTION:Nur alle 50 Jahre wird in Grosshöchstetten das Freilichtspiel 
 «Die Blutbuche» aufgeführt\, und jeweils nur an einem einzigen Abend\, 
 denn am Ende des Stücks wird der Baum gefällt. Nun ist es wieder soweit\
 , das Theaterfieber erfasst das ganze Dorf.\nDoch Regisseurin Frau Gut st
 össt bald einmal an ihre Grenzen\, denn Gemeindepräsident Kellenberger 
 – in der Rolle des Freiheitshelden Wüthrich – lässt sich nichts sage
 n\, die Statisten Hans und Heiri sagen viel\, aber immer das Falsche\, und
  Herrn Schön – als Vogt Hünigwald – sagt das Herumreiten auf alten T
 raditionen ohnehin nichts. Sprich: Alle reiten und reden aneinander vorbei
 .\nAls Schön im wüsten Streit um Deutungsmacht\, Freiheit und Demokratie
  zu einem radikalen Mittel greift\, steht plötzlich viel mehr als ein The
 aterstück auf dem Spiel. Kann Lettin Agneta die Aufführung retten? Rauft
  sich das Dorf zusammen? Und was sagt eigentlich der Baum zur ganzen Gesch
 ichte? Von Herrn und Frau Meise auf seinen Ästen mal ganz zu schweigen.\n
 Der siebte Streich von schön&amp\;gut bringt einmal mehr geistreiche Sati
 re\, grenzenlose Fantasie\, Wortspiel\, Gesang und jede Menge fliegender R
 ollenwechsel. Und am Ende vielleicht eine ganz neue Geschichte.
LOCATION:Aula Rebsamen\, Bahnhofstrasse 26a 26\, 8590 Romanshorn
DTSTART;TZID=Europe/Zurich:20260530T201500
DTEND;TZID=Europe/Zurich:20260530T223000
ORGANIZER:Bistro-Komitee
END:VEVENT
END:VCALENDAR
