BEGIN:VCALENDAR
VERSION:2.0
PRODID:-//Sabre//Sabre VObject 4.5.8//EN
CALSCALE:GREGORIAN
BEGIN:VEVENT
UID:sabre-vobject-83637abf-4f18-4df7-9c22-c303ba18e45b
DTSTAMP:20260421T123419Z
SUMMARY:Luigi Panettone: Elvis Favourites
DESCRIPTION:Luigi Panettone: Elvis Favourites - Die schönsten Elvis Songs 
 aus den 50er\, 60er und 70ern.\\n\n\\n\nHampa Rest (Vocals)\\n\nBenno Bern
 et (Piano)\\n\nAndy Gfeller (Guitar)\\n\nPit Noi (Bass)\\n\nPrisca Schmid 
 (Drums)
LOCATION:Heaven Music Club\, Hauptstrasse 35\, 8362 Balterswil
DTSTART;TZID=Europe/Zurich:20260925T210000
DTEND;TZID=Europe/Zurich:20260925T210000
ORGANIZER:Verein FiftyFifty
END:VEVENT
END:VCALENDAR
