BEGIN:VCALENDAR
VERSION:2.0
PRODID:-//Sabre//Sabre VObject 4.5.8//EN
CALSCALE:GREGORIAN
BEGIN:VEVENT
UID:sabre-vobject-02bd4566-0db4-49e8-b504-ac4236ec9589
DTSTAMP:20260421T150117Z
SUMMARY:Die Zauberlaterne - Der Filmklub für 6- bis 12-Jährige
DESCRIPTION:
LOCATION:Kino Roxy\, Salmsacherstrasse 1\, 8590 Romanshorn
DTSTART;TZID=Europe/Zurich:20260502T103000
DTEND;TZID=Europe/Zurich:20260502T120000
ORGANIZER:Zauberlaterne Romanshorn
END:VEVENT
END:VCALENDAR
