BEGIN:VCALENDAR
VERSION:2.0
PRODID:-//Sabre//Sabre VObject 4.5.8//EN
CALSCALE:GREGORIAN
BEGIN:VEVENT
UID:sabre-vobject-ad0f8bee-7ae6-40bd-a459-63e31ccb6300
DTSTAMP:20260421T085703Z
SUMMARY:Matti Klein Soul Trio meets Max Mutzke
DESCRIPTION:Genau betrachtet\, steckt in Max Mutzke mehr als nur ein einzig
 er Künstler. Max ist viele. Klingt erstmal komisch\, hat jedoch mit der u
 nglaublichen Wandlungsfähigkeit &amp\; nicht zuletzt mit der unstillbaren
  kreativen Neugierde des charismatischen Sängers &amp\; Songwriters zu tu
 n. Egal ob Pop\, Rock\, Soul\, Funk oder Jazz – Max Mutzke verfügt übe
 r tausend musikalische Facetten.\nNun hat er Partner gefunden\, die Trio/D
 rei sind\, doch auch mehr als das Verkörpern. Die soulige Groove-Jazz-Mis
 chung\, die Groove-Virtuose Matti Klein mit Lars Zander (Saxofon und Bassk
 larinette) sowie André Seidel\, seinem Kompagnon aus „Mo’ Blow“-Zei
 ten\, serviert\, hat Sucht-Potential und ebenso zahlreiche Facetten wie Ma
 x Mutzke sie hat. Mit seinen diversen Vintage-Keyboards und am Flügel ers
 pielte sich Matti Klein seinen Ruf als einen der interessantesten jungen G
 roove-Jazzer der deutschen Szene. Dabei teilt er Bühne und Studio regelm
 äßig mit Stars wie Sarah Connor\, Herbert Grönemeyer und als Musical Di
 rector mit und von Ed Motta.\nDas Programm „Matti Klein Soul Trio &amp\;
  Max Mutzke“ verspricht Grooves zum Tanzen und Texte zum Nachdenken\, N
 ähe zu großen Künstlern der Deutschen Groove-&amp\;Soul-Landschaft\, Le
 idenschaft und auch der satte Sound des Trios\, Klangwelten\, Sound-Reisen
  und heiße Soli kommen nicht zu kurz!
LOCATION:Kulturladen Konstanz\, Joseph-Belli-Weg 5\, 78467 Konstanz
DTSTART;TZID=Europe/Zurich:20260724T200000
DTEND;TZID=Europe/Zurich:20260724T200000
ORGANIZER:Kulturladen Konstanz e. V.
END:VEVENT
END:VCALENDAR
