BEGIN:VCALENDAR
VERSION:2.0
PRODID:-//Sabre//Sabre VObject 4.5.8//EN
CALSCALE:GREGORIAN
BEGIN:VEVENT
UID:sabre-vobject-d81767d7-66f0-441c-91c1-122c820badfc
DTSTAMP:20260419T221051Z
SUMMARY:Grenzdenken 2026
DESCRIPTION:Renommierte Referenten teilen ihre Tipps und Erfahrungen\, wie 
 man gewisse Dinge auf eine andere Weise betrachten kann. Ziel ist es\, mit
  den Referaten bestehende Denkgewohnheiten aufzubrechen. Referenten sollen
  gleichzeitig zum Nachdenken anregen und dazu inspirieren\, selbst seine e
 igenen Muster zu überdenken und zu sprengen. Trauen Sie sich?\nFreuen sie
  sich auf spannende und inspirierende Referate\, Gespräche und Workshops.
  Das Event beginnt am Freitag um 12:00 Uhr mit einem Sandwich-Lunch und en
 det am Samstag gegen 16:00 Uhr. Inklusive Essen\, Getränke\, Parkplatz un
 d Inspiration. Übernachtung kann auf Wunsch mit dem Ticket dazu gebucht w
 erden.\nMit dem Entscheidungsarchitekt Reto Blum\, den Herzchirurgen Micha
 el &amp\; Samira Hübler\, Prix Courage 2025 Trägerin Mahbube Ibrahimi\, 
 Ethikprofessor Peter Kirchschläger\, Astrologin Monica Kissling\, Romina 
 Rausch\, Pius Kobler\, Ökonom Mathias Binswanger\, Roland Siegenthaler un
 d viele mehr...
LOCATION:Lilienberg\, Blauortstrasse 10\, 8272 Ermatingen
DTSTART;TZID=Europe/Zurich:20260606T000000
DTEND;TZID=Europe/Zurich:20260606T163000
ORGANIZER:kombiniert gmbh
END:VEVENT
END:VCALENDAR
